{"text_format":"1","workbook":"xlsx","n_sheets":6,"sheets":["Índice","Tablero","modelo","coeficientes","precios","ANR"],"not_rendered":{"charts":0,"images":3,"macros":1,"external_links":0,"defined_names":39,"comments":2,"pivot_tables":0},"unopened":[],"bounds":{"document_bytes":16777216,"sheet_cells":100000,"rows_first":2000,"rows_last":500,"rows_between":2000,"halvings":0,"cell_chars":16384,"cell_head_chars":4096},"cells_cut":0,"cells_raw":0,"read":"whole","date_system":"1900"}

{"sheet":"Índice","index":0,"n_rows":24,"n_cols":5,"rows_kept":24,"cut":false,"hidden":false,"merged":[[3,2,3,4],[0,0,0,4],[1,0,1,4],[15,0,15,4]]}
["Modelo Económico Forestal"]
["Eucaliptus en Mesopotamia Sur"]
[]
[null,null,"Nivel de intervención"]
[null,null,"Básico","Avanzado","Experto"]
["Tablero","Tablero de comando","Editar celdas indicadas para simular diferentes escenarios de precios y variables de interés. Calcular sensibilidades y series de forma manual.","Agregar variantes de características del modelo al tablero de comando, tanto en ingresos de datos como en resultados. Automatizar variaciones sistemáticas con macros. Calcular sensibilidades y series complejas.","Reformular a la medida de las necesidades del caso."]
["modelo","Estructura temporal de ingresos y egresos económicos, basada en el modelo técnico.","Solo lectura","Modificar parámetros o estructura temporal del modelo sin alterar las celdas relacionadas con el tablero de comando.","Reformular el modelo en aspectos más estructurales; agregar otros indicadores de interés al tablero de comando; automatizar variantes del modelo."]
["coeficientes","Coeficientes técnicos del modelo técnico forestal, que cuantifican los rendimientos y requerimientos de cada tarea productiva.","Solo lectura","Solo lectura","Modificar coeficientes para representar modelos con diferentes determinantes técnicas."]
["precios","Conjunto de precios y otras variables de contexto que hacen a las condiciones económicas del modelo forestal.","Solo lectura","Modificar precios específicos que no dependan del tablero de comando, o modificar la relación entre este y determinados precios","Crear o modificar relaciones de dependencia entre precios."]
["ANR","Parámetros para computar el efecto del ANR que prevé la Ley N° 25.080 y modificatorias sobre el modelo.","Seleccionar incluir o no incluir los aportes en el cálculo del modelo.","Actualizar o modificar los montos.","Incorporar otros instrumentos de apoyo o gravámenes; modificar su inserción en la estructura temporal del modelo."]
[]
["Esta planilla de cálculo fue elaborada como actividad del Proyecto Estructural INTA - I016: Desarrollo de una silvicultura sostenible de bosques implantados de alta productividad."]
["Revisión:","noviembre 2021"]
[]
["Equipo técnico:"]
["Demián Olemberg1, Luis Vera1, Mario Flores Palenzona2, Carlos de la Peña1, María de los Ángeles García1, Federico Caniza1, Ciro Mastrandrea1, Juan Pablo Zabala2, Sebastián Bessonart2."]
["1  Instituto Nacional de Tecnología Agropecuaria (INTA)"]
["2 Dirección Nacional de Desarrollo Foresto Industrial - Ministerio de Agricultura Ganadería y Pesca de la Nación (DNDFI-MAGYP)"]
[]
["Documento del modelo técnico-económico:"]
["https://www.jornadasforestales.com.ar/book/revista/revista19-10-2021a.pdf"]
[]
["Contacto/consultas:"]
["olemberg.demian@inta.gob.ar"]

{"sheet":"Tablero","index":1,"n_rows":19,"n_cols":6,"rows_kept":19,"cut":false,"hidden":false,"merged":[[14,0,14,1]]}
["Tablero de comando"]
[null,null,null,"Año base 2020",null,"Escenarios alternativos:"]
["Tasa (%)",0.05]
["Tipo de cambio ($/USD)",63,null,63]
["JEQ ($/jornal)",2400,null,2400]
["GO ($/l)",61.07,null,61.07]
["HMEQ ($/h)",392.08399999999983,null,392.08399999999983]
["PLANT ($/plantín)",7,null,7]
["ANR","NO"]
["Precio Madera ($/t)",877,null,877]
["Rendimiento (t/ha)",380,null,380]
["VAN ($)",{"$f":"modelo!$M$5+NPV(Tablero!$B$3,modelo!$M$6:$M$17)","v":112204.90819506148}]
["TIR",{"$f":"IRR(modelo!$M$5:$M$17)","v":0.15259263183794136}]
[]
["Otros indicadores y cálculos"]
["Costo total bruto ($/ha)",{"$f":"SUM(modelo!$O$5:$O$16)","v":81146.018082369512}]
["Costo total actualizado ($/ha)",{"$f":"-NPV(tasa,modelo!$M$5:$M$16)","v":68343.937782382825}]
["Costo bruto implantación ($/ha)",{"$f":"-modelo!$N$7","v":52750.002620877232}]
["Otros..."]

{"sheet":"modelo","index":2,"n_rows":33,"n_cols":15,"rows_kept":33,"cut":false,"hidden":false,"merged":[]}
["Modelo: Estructura temporal de ingresos y egresos económicos"]
[]
["VALORES ($) EXPRESADOS EN PESOS, PARA 1 HA"]
["Año","JEQ","GO","HMEQ","PLANT","AGROQ","AMORT","IMP","Subtotal","Admin","Egresos","Ingresos","FF","FF acum.","Costo"]
[0,{"$f":"coeficientes!$B$5+coeficientes!$B$6+coeficientes!$B$7+coeficientes!$B$8+coeficientes!$B$9+coeficientes!$B$16","v":3.0725385333333337},{"$f":"coeficientes!$F$5+coeficientes!$F$6+coeficientes!$F$7+coeficientes!$F$8","v":89.807858645220961},{"$f":"coeficientes!$E$5+coeficientes!$E$6+coeficientes!$E$7+coeficientes!$E$8+coeficientes!$E$16","v":5.2212341554113131},{"$f":"coeficientes!$C$8","v":1000},{"$f":"coeficientes!$D$5+coeficientes!$D$7+coeficientes!$D$9","v":7155.6414299999997},{"$f":"coeficientes!$B$15","v":1040.8219204614641},{"$f":"precios!$B$7","v":0},{"$f":"B5*precios!$B$3+C5*precios!$B$4+D5*precios!$B$5+E5*precios!$B$6+F5+G5+H5","v":30102.284130515396},null,{"$f":"I5+J5","v":30102.284130515396},0,{"$f":"L5-K5","v":-30102.284130515396},{"$f":"M5","v":-30102.284130515396},{"$f":"IF(M6<0,0,-N5)","v":0}]
[1,{"$f":"coeficientes!$B$10+coeficientes!$B$11+coeficientes!$B$13+coeficientes!$B$17","v":2.4634252000000001},{"$f":"coeficientes!$F$10+coeficientes!$F$13","v":30.12361639982776},{"$f":"coeficientes!$E$10+coeficientes!$E$13+coeficientes!$E$17","v":3.3604195280542704},null,{"$f":"coeficientes!$D$10+coeficientes!$D$11","v":1258.2706499999999},{"$f":"coeficientes!$B$15","v":1040.8219204614641},{"$f":"precios!$B$7","v":0},{"$f":"B6*precios!$B$3+C6*precios!$B$4+D6*precios!$B$5+E6*precios!$B$6+F6+G6+H6","v":11368.529034236575},null,{"$f":"I6+J6","v":11368.529034236575},0,{"$f":"L6-K6","v":-11368.529034236575},{"$f":"N5+M6","v":-41470.813164751969},{"$f":"IF(M7<0,0,IF(N6<0,IF(-N6>SUM($O$5:O5),-N6-SUM($O$5:O5),0),0))","v":0}]
[2,{"$f":"coeficientes!$B$12+coeficientes!$B$13+coeficientes!$B$14","v":3.5564678640315606},{"$f":"coeficientes!$F$12+coeficientes!$F$13+coeficientes!$F$14","v":10.565161172708081},{"$f":"coeficientes!$E$12+coeficientes!$E$13+coeficientes!$E$14","v":0.503108045641812},null,null,{"$f":"coeficientes!$B$15","v":1040.8219204614641},{"$f":"precios!$B$7","v":0},{"$f":"B7*precios!$B$3+C7*precios!$B$4+D7*precios!$B$5+E7*precios!$B$6+F7+G7+H7","v":10418.819801921916},{"$f":"coeficientes!$B$18*modelo!$I$18/13","v":860.36965420334388},11279.189456125259,0,-11279.189456125259,{"$f":"N6+M7","v":-52750.002620877232},{"$f":"IF(M8<0,0,IF(N7<0,IF(-N7>SUM($O$5:O6),-N7-SUM($O$5:O6),0),0))","v":0}]
[3,{"$f":"coeficientes!$B$13","v":0.22311200000000003},{"$f":"coeficientes!$F$13","v":5.6026206157737333},{"$f":"coeficientes!$E$13","v":0.26679417970033181},null,null,{"$f":"coeficientes!$B$15","v":1040.8219204614641},{"$f":"precios!$B$7","v":0},{"$f":"B8*precios!$B$3+C8*precios!$B$4+D8*precios!$B$5+E8*precios!$B$6+F8+G8+H8","v":2023.048490620391},{"$f":"coeficientes!$B$18*modelo!$I$18/13","v":860.36965420334388},2883.418144823735,{"$f":"ANR!B4","v":0},-2883.418144823735,-55633.420765700968,{"$f":"IF(M9<0,0,IF(N8<0,IF(-N8>SUM($O$5:O7),-N8-SUM($O$5:O7),0),0))","v":0}]
[4,{"$f":"coeficientes!$B$14+coeficientes!$B$13","v":1.1022358640315602},{"$f":"coeficientes!$F$14+coeficientes!$F$13","v":9.8081796780992683},{"$f":"coeficientes!$E$14+coeficientes!$E$13","v":0.46706094005449239},null,null,{"$f":"coeficientes!$B$15","v":1040.8219204614641},{"$f":"precios!$B$7","v":0},{"$f":"B9*precios!$B$3+C9*precios!$B$4+D9*precios!$B$5+E9*precios!$B$6+F9+G9+H9","v":4468.3006486990562},{"$f":"coeficientes!$B$18*modelo!$I$18/13","v":860.36965420334388},5328.6703029024002,{"$f":"ANR!B5+ANR!B6","v":0},-5328.6703029024002,-60962.091068603368,{"$f":"IF(M10<0,0,IF(N9<0,IF(-N9>SUM($O$5:O8),-N9-SUM($O$5:O8),0),0))","v":0}]
[5,{"$f":"coeficientes!$B$13","v":0.22311200000000003},{"$f":"coeficientes!$F$13","v":5.6026206157737333},{"$f":"coeficientes!$E$13","v":0.26679417970033181},null,null,{"$f":"coeficientes!$B$15","v":1040.8219204614641},{"$f":"precios!$B$7","v":0},{"$f":"B10*precios!$B$3+C10*precios!$B$4+D10*precios!$B$5+E10*precios!$B$6+F10+G10+H10","v":2023.048490620391},{"$f":"coeficientes!$B$18*modelo!$I$18/13","v":860.36965420334388},2883.418144823735,0,-2883.418144823735,-63845.509213427104,{"$f":"IF(M11<0,0,IF(N10<0,IF(-N10>SUM($O$5:O9),-N10-SUM($O$5:O9),0),0))","v":0}]
[6,{"$f":"coeficientes!$B$13","v":0.22311200000000003},{"$f":"coeficientes!$F$13","v":5.6026206157737333},{"$f":"coeficientes!$E$13","v":0.26679417970033181},null,null,{"$f":"coeficientes!$B$15","v":1040.8219204614641},{"$f":"precios!$B$7","v":0},{"$f":"B11*precios!$B$3+C11*precios!$B$4+D11*precios!$B$5+E11*precios!$B$6+F11+G11+H11","v":2023.048490620391},{"$f":"coeficientes!$B$18*modelo!$I$18/13","v":860.36965420334388},2883.418144823735,0,-2883.418144823735,-66728.927358250832,{"$f":"IF(M12<0,0,IF(N11<0,IF(-N11>SUM($O$5:O10),-N11-SUM($O$5:O10),0),0))","v":0}]
[7,{"$f":"coeficientes!$B$13","v":0.22311200000000003},{"$f":"coeficientes!$F$13","v":5.6026206157737333},{"$f":"coeficientes!$E$13","v":0.26679417970033181},null,null,{"$f":"coeficientes!$B$15","v":1040.8219204614641},{"$f":"precios!$B$7","v":0},{"$f":"B12*precios!$B$3+C12*precios!$B$4+D12*precios!$B$5+E12*precios!$B$6+F12+G12+H12","v":2023.048490620391},{"$f":"coeficientes!$B$18*modelo!$I$18/13","v":860.36965420334388},2883.418144823735,0,-2883.418144823735,-69612.345503074568,{"$f":"IF(M13<0,0,IF(N12<0,IF(-N12>SUM($O$5:O11),-N12-SUM($O$5:O11),0),0))","v":0}]
[8,{"$f":"coeficientes!$B$13","v":0.22311200000000003},{"$f":"coeficientes!$F$13","v":5.6026206157737333},{"$f":"coeficientes!$E$13","v":0.26679417970033181},null,null,{"$f":"coeficientes!$B$15","v":1040.8219204614641},{"$f":"precios!$B$7","v":0},{"$f":"B13*precios!$B$3+C13*precios!$B$4+D13*precios!$B$5+E13*precios!$B$6+F13+G13+H13","v":2023.048490620391},{"$f":"coeficientes!$B$18*modelo!$I$18/13","v":860.36965420334388},2883.418144823735,0,-2883.418144823735,-72495.763647898304,{"$f":"IF(M14<0,0,IF(N13<0,IF(-N13>SUM($O$5:O12),-N13-SUM($O$5:O12),0),0))","v":0}]
[9,{"$f":"coeficientes!$B$13","v":0.22311200000000003},{"$f":"coeficientes!$F$13","v":5.6026206157737333},{"$f":"coeficientes!$E$13","v":0.26679417970033181},null,null,{"$f":"coeficientes!$B$15","v":1040.8219204614641},{"$f":"precios!$B$7","v":0},{"$f":"B14*precios!$B$3+C14*precios!$B$4+D14*precios!$B$5+E14*precios!$B$6+F14+G14+H14","v":2023.048490620391},{"$f":"coeficientes!$B$18*modelo!$I$18/13","v":860.36965420334388},2883.418144823735,0,-2883.418144823735,-75379.18179272204,{"$f":"IF(M15<0,0,IF(N14<0,IF(-N14>SUM($O$5:O13),-N14-SUM($O$5:O13),0),0))","v":0}]
[10,{"$f":"coeficientes!$B$13","v":0.22311200000000003},{"$f":"coeficientes!$F$13","v":5.6026206157737333},{"$f":"coeficientes!$E$13","v":0.26679417970033181},null,null,{"$f":"coeficientes!$B$15","v":1040.8219204614641},{"$f":"precios!$B$7","v":0},{"$f":"B15*precios!$B$3+C15*precios!$B$4+D15*precios!$B$5+E15*precios!$B$6+F15+G15+H15","v":2023.048490620391},{"$f":"coeficientes!$B$18*modelo!$I$18/13","v":860.36965420334388},2883.418144823735,0,-2883.418144823735,-78262.599937545776,{"$f":"IF(M16<0,0,IF(N15<0,IF(-N15>SUM($O$5:O14),-N15-SUM($O$5:O14),0),0))","v":0}]
[11,{"$f":"coeficientes!$B$13","v":0.22311200000000003},{"$f":"coeficientes!$F$13","v":5.6026206157737333},{"$f":"coeficientes!$E$13","v":0.26679417970033181},null,null,{"$f":"coeficientes!$B$15","v":1040.8219204614641},{"$f":"precios!$B$7","v":0},{"$f":"B16*precios!$B$3+C16*precios!$B$4+D16*precios!$B$5+E16*precios!$B$6+F16+G16+H16","v":2023.048490620391},{"$f":"coeficientes!$B$18*modelo!$I$18/13","v":860.36965420334388},2883.418144823735,0,-2883.418144823735,-81146.018082369512,{"$f":"IF(M17<0,0,IF(N16<0,IF(-N16>SUM($O$5:O15),-N16-SUM($O$5:O15),0),0))","v":81146.018082369512}]
[12,{"$f":"coeficientes!$B$13","v":0.22311200000000003},{"$f":"coeficientes!$F$13","v":5.6026206157737333},{"$f":"coeficientes!$E$13","v":0.26679417970033181},null,null,{"$f":"coeficientes!$B$15","v":1040.8219204614641},{"$f":"precios!$B$7","v":0},{"$f":"B17*precios!$B$3+C17*precios!$B$4+D17*precios!$B$5+E17*precios!$B$6+F17+G17+H17","v":2023.048490620391},{"$f":"coeficientes!$B$18*modelo!$I$18/13","v":860.36965420334388},2883.418144823735,{"$f":"coeficientes!$B$19*precios!$B$10","v":333260},330376.58185517625,249230.56377280672]
[null,null,null,null,null,null,null,null,{"$f":"SUM($I$5:$I$17)","v":74565.370030956474},{"$f":"SUM($J$7:$J$17)","v":9464.0661962367813}]
[]
["Referencias:"]
["JEQ","Jornal equivalente: cantidad de jornales (categoría testigo peón gral. s/res. CNTA)"]
["GO","Litros de gasoil equivalente: cantidad de litros de gasoil tipo 2 precio final en comercializadora seleccionada"]
["HMEQ","Horas máquina equivalente: cantidad de horas de uso de tractor tipo mediano con implementos"]
["PLANT","Material de plantación: cantidad de plantines"]
["AGROQ","Agroquímicos: gasto en $ en productos químicos varios"]
["AMORT","Amortizaciones: amortizaciones de bienes durables en $"]
["IMP","Impuestos específicos en $"]
["Subtotal","Suma de todos los egresos sustantivos del año ($), exceptuando gastos de administración"]
["Admin","Gastos de administración en $"]
["Egresos","Suma de todos los egresos del año ($), incluyendo gastos de administración"]
["Ingresos","Suma de todos los ingresos del año ($)"]
["FF","Flujo de fondos neto del año ($)"]
["FF acum.","Flujo de fondos neto acumulado hasta el año ($)"]

{"sheet":"coeficientes","index":3,"n_rows":27,"n_cols":11,"rows_kept":27,"cut":false,"hidden":false,"merged":[]}
["Coeficientes técnicos"]
[]
["Tareas","JEQ","PLANT","AGROQ","HMEQ","GO",null,"%",0.19591556915270675,0.64082145655337097,{"$f":"1-I3-J3","v":0.16326297429392223}]
["Proporción jornal calif. / jornal gral.",1.1155600000000001,null,null,null,null,null,"CHM","HMEQ","Comb. y lub.","Amortiz."]
["Control de plagas año 0",{"$f":"0.5*pjo","v":0.55778000000000005},null,{"$f":"5*precios!B11","v":1301.643},{"$f":"I5","v":0.22137439961672023},4.648814964742753,null,443.03,{"$f":"I$3*$H5/392.08","v":0.22137439961672023},{"$f":"J$3*$H5/61.07","v":4.648814964742753},{"$f":"K$3*$H5","v":72.330395501436357}]
["Preparación del terreno",{"$f":"0.28*pjo","v":0.31235680000000005},null,null,2.773163694812665,58.235843469014668,null,5549.85,{"$f":"I$3*$H6/392.08","v":2.773163694812665},{"$f":"J$3*$H6/61.07","v":58.235843469014668},{"$f":"K$3*$H6","v":906.08501788512433}]
["Control de malezas 0",{"$f":"(0.05+0.08+0.09)*pjo","v":0.24542320000000004},null,{"$f":"(3.5+2.5)*precios!B12+0.3*precios!B13","v":2148.3384300000002},1.1713831159454655,24.598794477963558,null,2344.2541809523809,{"$f":"I$3*$H7/392.08","v":1.1713831159454655},{"$f":"J$3*$H7/61.07","v":24.598794477963558},{"$f":"K$3*$H7","v":382.72991008324828}]
["Plantación",{"$f":"0.17*pjo+5/6","v":1.0229785333333334},1000,null,0.11068711652792027,2.3244057334999813,null,221.51483333333331,{"$f":"I$3*$H8/392.08","v":0.11068711652792027},{"$f":"J$3*$H8/61.07","v":2.3244057334999813},{"$f":"K$3*$H8","v":36.165170540222462}]
["Fertilización",0.31,null,{"$f":"100*precios!B14","v":3705.6599999999994}]
["Control de malezas año 1",{"$f":"0.26+pjo*0.22","v":0.50542320000000007},null,{"$f":"3.5*precios!B12","v":867.77775000000008},{"$f":"I10","v":1.167678378440143},{"$f":"J10","v":24.520995784054026},null,2336.84,{"$f":"I$3*$H10/392.08","v":1.167678378440143},{"$f":"J$3*$H10/61.07","v":24.520995784054026},{"$f":"K$3*$H10","v":381.51944884900922}]
["Control de plagas año 1",{"$f":"0.25*pjo","v":0.27889000000000003},null,{"$f":"1.5*precios!B11","v":390.49289999999996}]
["Poda año 2",{"$f":"2*pjo*1.1","v":2.4542320000000006},null,null,{"$f":"I12","v":3.6047105587319592E-2},0.75698149460881248,null,72.14,{"$f":"I$3*$H12/392.08","v":3.6047105587319592E-2},{"$f":"J$3*$H12/61.07","v":0.75698149460881248},{"$f":"K$3*$H12","v":11.777790965563549}]
["Limpieza caminos y cortafuegos",{"$f":"0.2*pjo","v":0.22311200000000003},null,null,0.26679417970033181,5.6026206157737333,null,533.92725462962972,{"$f":"I$3*$H13/392.08","v":0.26679417970033181},{"$f":"J$3*$H13/61.07","v":5.6026206157737333},{"$f":"K$3*$H13","v":87.170551647421703}]
["Raleo año 2",{"$f":"0.788056101*pjo","v":0.87912386403156006},null,null,0.20026676035416058,4.2055590623255359,null,400.78790950226249,{"$f":"I$3*$H14/392.08","v":0.20026676035416058},{"$f":"J$3*$H14/61.07","v":4.2055590623255359},{"$f":"K$3*$H14","v":65.433826166382715}]
["Amortizaciones",{"$f":"-PMT(tasa,30,precios!$B$8)/250","v":1040.8219204614641},null,null,null,null,null,"S admin","$ jo","$ maq"]
["Administración año 0",{"$f":"I16/precios!$B$3","v":0.624},null,null,{"$f":"J16/392.08","v":0.9446258285085416},null,null,1867.9688948416288,1497.6,370.36889484162896]
["Administración año 1",{"$f":"I17/precios!$B$3","v":1.456},null,null,{"$f":"J17/392.08","v":1.9259469699137957},null,null,4249.525287963801,3494.4,755.12528796380093]
["Administración resto",0.15,"% subtotal",null,null,null,null,13359.791678552036,{"$f":"0.8*H18","v":10687.83334284163},{"$f":"0.2*H18","v":2671.9583357104075}]
["Rendimiento tala final única",{"$f":"RENDIMIENTO","v":380},"t"]
[]
["Observaciones"]
["Amortizaciones","Amortización anual prorrateado por ha de un tractor a media vida útil cada 250 ha, a la tasa de interés indicada, con vida útil remanente de 30 años, más amortizaciones menores: implementos, motosierras, etc. El precio de la maquinaria se actualiza proporcionalmente con el tipo de cambio, y asimismo las amortizaciones."]
["Administración","Para los años 0 y 1 se internalizan los gastos de administración en los requerimientos de JEQ y HMEQ. Para el resto de la serie, se aplica una tasa fija sobre el subtotal de toda la serie, y se prorratea en anualidades iguales. La tasa surge de optimizar el valor total obtenido para igualar los costos de administración según planillas de modelos vigentes INTA Concordia."]
["HMEQ","Hora Máquina Equivalente: se calcula en base a la tabla de la derecha. El costo horario de maquinaria (CHM) según planillas de labores de modelos vigentes INTA Concordia, se descompone en HMEQ, GO y amortizaciones, según proporciones fijas correspondientes a la categoría tractor intermedio, independientemente del equipo efectivamente usado en las distintas tareas. De allí surgen HMEQ y GO. Las amortizaciones aquí se computan independientemente, según se indica arriba."]
["AGROQ","Valores en $ resultantes de aplicar las cantidades técnicamente especificadas por el precio vigente, que se actualiza proporcionalmente con el tipo de cambio."]
["JEQ","Aquellas labores que requieren trabajo de mayor calificación tienen su coeficiente multiplicado por la proporción correspondiente."]
["GO","Todos los consumos de diferentes combustibles y lubricantes se expresan como litros de gasoil equivalentes, según la relación de precios vigente al año base, 2020."]

{"sheet":"precios","index":4,"n_rows":14,"n_cols":6,"rows_kept":14,"cut":false,"hidden":false,"merged":[]}
["Precios"]
[null,null,"Unidad","Fuente","Fecha","Observaciones"]
["JEQ",{"$f":"PJEQ","v":2400},"$/día","Res. CNTA 188-19","2020-01-01"]
["GO",{"$f":"PGO","v":61.07},"$/l","YPF DIRECTO","2019-12-06"]
["HMEQ",{"$f":"PHMEQ","v":392.08399999999983},"$/h","Planilla precios forestales INTA Concordia (cálculo en base a)","2020-01-01"]
["PLANT",{"$f":"PPLANT","v":7},"$/plantín","Planilla precios forestales INTA Concordia","2019-10-01"]
["Impuestos específicos netos de subsidios",0,"$/ha/año","Referentes técnicos locales","2021-05-21"]
["Tractor media vida útil (más motosierra, implementos, etc.)",{"$f":"63492*TCN","v":3999996},"$","Referentes técnicos locales","2021-05-21"]
["Madera raleo (pago neto en pie)",{"$f":"PMAD/2.0733","v":422.99715429508512},"$/t","Proporción fija de precio madera final","2019-12-06"]
["Madera final (pago neto en pie)",{"$f":"PMAD","v":877},"$/t","Planilla precios forestales INTA Concordia  (cálculo en base a)","2019-12-06"]
["Formidor",{"$f":"4.1322*TCN","v":260.32859999999999},"$/kg","Planilla precios forestales INTA Concordia","2020-01-01"]
["Glif",{"$f":"3.9355*TCN","v":247.93650000000002},"$/l","COINSA"]
["Preemergente FORDOR",{"$f":"34.9587*TCN","v":2202.3980999999999},"$/140g","Planilla precios forestales INTA Concordia","2019-10-01"]
["Fertliz. fosfato diamónico",{"$f":"0.5882*TCN","v":37.056599999999996},"$/kg","Planilla precios forestales INTA Concordia"]

{"sheet":"ANR","index":5,"n_rows":10,"n_cols":5,"rows_kept":10,"cut":false,"hidden":false,"merged":[]}
["Instrumentos de apoyo específicos sectoriales"]
[]
[null,"AENR a imputar","monto AENR","Normativa","Observaciones"]
["Implantación, cobro al año 3",{"$f":"IF(Tablero!$B$9=\"SÍ\",ANR!C4,0)","v":0},40864,"Res. 116/20","plantando hasta 20 ha/año"]
["Raleo del año 2, cobro al año 4",{"$f":"IF(Tablero!$B$9=\"SÍ\",ANR!C5,0)","v":0},6677,"Res. 116/20"]
["Poda del año 2, cobro al año 4",{"$f":"IF(Tablero!$B$9=\"SÍ\",ANR!C6,0)","v":0},5643,"Res. 116/20"]
[]
[]
["Referencias:"]
["AENR","Apoyo económico no reintegrable"]